BEGIN:VCALENDAR
PRODID:-//AT Content Types//AT Event//EN
VERSION:2.0
METHOD:PUBLISH
BEGIN:VEVENT
DTSTAMP:20260421T115608Z
CREATED:20130725T170741Z
UID:ATEvent-ba85310686a21dd3d3e1f14d2543f9b0
LAST-MODIFIED:20130801T005847Z
SUMMARY:Geometría de espacios simétricos
DTSTART:20130813T180000Z
DTEND:20130813T190000Z
DESCRIPTION:Gregor Weingart (IMUNAM-Cuernavaca) - martes 13 de agosto\
 , 12 horas
LOCATION:Salón "Graciela Salicrup"
CATEGORIES:Coloquio
CLASS:PUBLIC
END:VEVENT
END:VCALENDAR
